BEGIN:VCALENDAR
VERSION:2.0
PRODID:-//Essex County Nature - ECPv6.15.18//NONSGML v1.0//EN
CALSCALE:GREGORIAN
METHOD:PUBLISH
X-WR-CALNAME:Essex County Nature
X-ORIGINAL-URL:https://www.essexcountynature.com
X-WR-CALDESC:Events for Essex County Nature
REFRESH-INTERVAL;VALUE=DURATION:PT1H
X-Robots-Tag:noindex
X-PUBLISHED-TTL:PT1H
BEGIN:VTIMEZONE
TZID:America/Detroit
BEGIN:DAYLIGHT
TZOFFSETFROM:-0500
TZOFFSETTO:-0400
TZNAME:EDT
DTSTART:20170312T070000
END:DAYLIGHT
BEGIN:STANDARD
TZOFFSETFROM:-0400
TZOFFSETTO:-0500
TZNAME:EST
DTSTART:20171105T060000
END:STANDARD
BEGIN:DAYLIGHT
TZOFFSETFROM:-0500
TZOFFSETTO:-0400
TZNAME:EDT
DTSTART:20180311T070000
END:DAYLIGHT
BEGIN:STANDARD
TZOFFSETFROM:-0400
TZOFFSETTO:-0500
TZNAME:EST
DTSTART:20181104T060000
END:STANDARD
BEGIN:DAYLIGHT
TZOFFSETFROM:-0500
TZOFFSETTO:-0400
TZNAME:EDT
DTSTART:20190310T070000
END:DAYLIGHT
BEGIN:STANDARD
TZOFFSETFROM:-0400
TZOFFSETTO:-0500
TZNAME:EST
DTSTART:20191103T060000
END:STANDARD
END:VTIMEZONE
BEGIN:VEVENT
DTSTART;VALUE=DATE:20180501
DTEND;VALUE=DATE:20180522
DTSTAMP:20260421T222730
CREATED:20180316T155354Z
LAST-MODIFIED:20180316T155354Z
UID:12583-1525132800-1526947199@www.essexcountynature.com
SUMMARY:Pelee’s Festival of Birds
DESCRIPTION:Celebrate spring migration at Point Pelee National Park. Daily birding hikes\, Lunch and \nLearn sessions\, Birder Breakfast and Lunch and so much more. Visit www.festivalofbirds.ca \nfor more details.
URL:https://www.essexcountynature.com/event/pelees-festival-of-birds/
END:VEVENT
BEGIN:VEVENT
DTSTART;VALUE=DATE:20180505
DTEND;VALUE=DATE:20180507
DTSTAMP:20260421T222730
CREATED:20180316T154708Z
LAST-MODIFIED:20180316T154742Z
UID:12575-1525478400-1525651199@www.essexcountynature.com
SUMMARY:24th Annual ECFNC Pelee Island Trip
DESCRIPTION:Register early with Dave Kraus as it often sells out fast! See article in the March 2018 Egret newsletter for additional details.
URL:https://www.essexcountynature.com/event/24th-annual-ecfnc-pelee-island-trip/
END:VEVENT
END:VCALENDAR