BEGIN:VCALENDAR
VERSION:2.0
PRODID:-//Essex County Nature - ECPv6.15.18//NONSGML v1.0//EN
CALSCALE:GREGORIAN
METHOD:PUBLISH
X-ORIGINAL-URL:https://www.essexcountynature.com
X-WR-CALDESC:Events for Essex County Nature
REFRESH-INTERVAL;VALUE=DURATION:PT1H
X-Robots-Tag:noindex
X-PUBLISHED-TTL:PT1H
BEGIN:VTIMEZONE
TZID:America/Detroit
BEGIN:DAYLIGHT
TZOFFSETFROM:-0500
TZOFFSETTO:-0400
TZNAME:EDT
DTSTART:20240310T070000
END:DAYLIGHT
BEGIN:STANDARD
TZOFFSETFROM:-0400
TZOFFSETTO:-0500
TZNAME:EST
DTSTART:20241103T060000
END:STANDARD
BEGIN:DAYLIGHT
TZOFFSETFROM:-0500
TZOFFSETTO:-0400
TZNAME:EDT
DTSTART:20250309T070000
END:DAYLIGHT
BEGIN:STANDARD
TZOFFSETFROM:-0400
TZOFFSETTO:-0500
TZNAME:EST
DTSTART:20251102T060000
END:STANDARD
BEGIN:DAYLIGHT
TZOFFSETFROM:-0500
TZOFFSETTO:-0400
TZNAME:EDT
DTSTART:20260308T070000
END:DAYLIGHT
BEGIN:STANDARD
TZOFFSETFROM:-0400
TZOFFSETTO:-0500
TZNAME:EST
DTSTART:20261101T060000
END:STANDARD
END:VTIMEZONE
BEGIN:VEVENT
DTSTART;TZID=America/Detroit:20250212T190000
DTEND;TZID=America/Detroit:20250212T210000
DTSTAMP:20260422T231134
CREATED:20241213T004107Z
LAST-MODIFIED:20250125T162647Z
UID:15536-1739386800-1739394000@www.essexcountynature.com
SUMMARY:Wonderful Wildlife (..birds) of Peru
DESCRIPTION:Wonderful Wildlife (..birds) of Peru\n– Cameron Chevalier and Jeremy Hatt\n\n\n\nJeremy Hatt and Cameron Chevalier invite you to join them in their passion for wildlife and birds when they share their knowledge and photos of a recent trip to Peru.
URL:https://www.essexcountynature.com/event/wonderful-wildlife-birds-of-peru/
CATEGORIES:Essex County Nature Meeting
END:VEVENT
BEGIN:VEVENT
DTSTART;TZID=America/Detroit:20250216T100000
DTEND;TZID=America/Detroit:20250216T110000
DTSTAMP:20260422T231134
CREATED:20241213T004451Z
LAST-MODIFIED:20250109T032137Z
UID:15542-1739700000-1739703600@www.essexcountynature.com
SUMMARY:Spring Garden Monthly Walk
DESCRIPTION:Winter is here! Let’s see what winter in Spring Garden looks like. \n\nJoin us in the Spring Garden Natural Area of the Ojibway Prairie Complex as we monitor changes in the natural world on a monthly basis as the year progresses.  \n\nMeet at the Titcombe Parking Lot off Malden Rd.
URL:https://www.essexcountynature.com/event/spring-garden-monthly-walk-2/
CATEGORIES:Essex County Nature Meeting
END:VEVENT
END:VCALENDAR