BEGIN:VCALENDAR
VERSION:2.0
PRODID:-//Essex County Nature - ECPv6.15.18//NONSGML v1.0//EN
CALSCALE:GREGORIAN
METHOD:PUBLISH
X-ORIGINAL-URL:https://www.essexcountynature.com
X-WR-CALDESC:Events for Essex County Nature
REFRESH-INTERVAL;VALUE=DURATION:PT1H
X-Robots-Tag:noindex
X-PUBLISHED-TTL:PT1H
BEGIN:VTIMEZONE
TZID:America/Detroit
BEGIN:DAYLIGHT
TZOFFSETFROM:-0500
TZOFFSETTO:-0400
TZNAME:EDT
DTSTART:20170312T070000
END:DAYLIGHT
BEGIN:STANDARD
TZOFFSETFROM:-0400
TZOFFSETTO:-0500
TZNAME:EST
DTSTART:20171105T060000
END:STANDARD
BEGIN:DAYLIGHT
TZOFFSETFROM:-0500
TZOFFSETTO:-0400
TZNAME:EDT
DTSTART:20180311T070000
END:DAYLIGHT
BEGIN:STANDARD
TZOFFSETFROM:-0400
TZOFFSETTO:-0500
TZNAME:EST
DTSTART:20181104T060000
END:STANDARD
BEGIN:DAYLIGHT
TZOFFSETFROM:-0500
TZOFFSETTO:-0400
TZNAME:EDT
DTSTART:20190310T070000
END:DAYLIGHT
BEGIN:STANDARD
TZOFFSETFROM:-0400
TZOFFSETTO:-0500
TZNAME:EST
DTSTART:20191103T060000
END:STANDARD
END:VTIMEZONE
BEGIN:VEVENT
DTSTART;VALUE=DATE:20180501
DTEND;VALUE=DATE:20180522
DTSTAMP:20260421T205303
CREATED:20180316T155354Z
LAST-MODIFIED:20180316T155354Z
UID:12583-1525132800-1526947199@www.essexcountynature.com
SUMMARY:Pelee’s Festival of Birds
DESCRIPTION:Celebrate spring migration at Point Pelee National Park. Daily birding hikes\, Lunch and \nLearn sessions\, Birder Breakfast and Lunch and so much more. Visit www.festivalofbirds.ca \nfor more details.
URL:https://www.essexcountynature.com/event/pelees-festival-of-birds/
END:VEVENT
BEGIN:VEVENT
DTSTART;VALUE=DATE:20180505
DTEND;VALUE=DATE:20180507
DTSTAMP:20260421T205303
CREATED:20180316T154708Z
LAST-MODIFIED:20180316T154742Z
UID:12575-1525478400-1525651199@www.essexcountynature.com
SUMMARY:24th Annual ECFNC Pelee Island Trip
DESCRIPTION:Register early with Dave Kraus as it often sells out fast! See article in the March 2018 Egret newsletter for additional details.
URL:https://www.essexcountynature.com/event/24th-annual-ecfnc-pelee-island-trip/
END:VEVENT
BEGIN:VEVENT
DTSTART;TZID=America/Detroit:20180505T083000
DTEND;TZID=America/Detroit:20180505T130000
DTSTAMP:20260421T205303
CREATED:20180316T160424Z
LAST-MODIFIED:20180316T160424Z
UID:12593-1525509000-1525525200@www.essexcountynature.com
SUMMARY:Ojibway Nature Centre Spring Birding Trips
DESCRIPTION:Ojibway Nature Centre Spring Birding Trips (Fee Program) – \nMeet at the Rondeau Provincial Park Visitor Centre at 8:30 am
URL:https://www.essexcountynature.com/event/ojibway-nature-centre-spring-birding-trips-4/
END:VEVENT
BEGIN:VEVENT
DTSTART;TZID=America/Detroit:20180509T193000
DTEND;TZID=America/Detroit:20180509T213000
DTSTAMP:20260421T205303
CREATED:20180316T154918Z
LAST-MODIFIED:20180316T154918Z
UID:12577-1525894200-1525901400@www.essexcountynature.com
SUMMARY:Essex County Nature Meeting
DESCRIPTION:7:30 pm at the Ojibway Nature Centre. All are welcome. Details to come.
URL:https://www.essexcountynature.com/event/essex-county-nature-meeting-16/
CATEGORIES:Essex County Nature Meeting
ATTACH;FMTTYPE=image/jpeg:https://www.essexcountynature.com/wp-content/uploads/2016/03/oncnight.jpg
END:VEVENT
BEGIN:VEVENT
DTSTART;TZID=America/Detroit:20180516T080000
DTEND;TZID=America/Detroit:20180516T170000
DTSTAMP:20260421T205303
CREATED:20180316T160546Z
LAST-MODIFIED:20180316T160546Z
UID:12595-1526457600-1526490000@www.essexcountynature.com
SUMMARY:Ojibway Nature Centre Spring Birding Trips
DESCRIPTION:Ojibway Nature Centre Spring Birding Trips (Fee Program) – \nMeet at the Visitor Centre\, Point Pelee at 8:00 am
URL:https://www.essexcountynature.com/event/ojibway-nature-centre-spring-birding-trips-5/
END:VEVENT
BEGIN:VEVENT
DTSTART;TZID=America/Detroit:20180523T080000
DTEND;TZID=America/Detroit:20180523T130000
DTSTAMP:20260421T205303
CREATED:20180316T160642Z
LAST-MODIFIED:20180316T160642Z
UID:12597-1527062400-1527080400@www.essexcountynature.com
SUMMARY:Ojibway Nature Centre Spring Birding Trips
DESCRIPTION:Ojibway Nature Centre Spring Birding Trips (Fee Program) – \nMeet at the Visitor Centre\, Point Pelee at 8:00 am
URL:https://www.essexcountynature.com/event/ojibway-nature-centre-spring-birding-trips-6/
END:VEVENT
BEGIN:VEVENT
DTSTART;VALUE=DATE:20180526
DTEND;VALUE=DATE:20180528
DTSTAMP:20260421T205303
CREATED:20180316T155127Z
LAST-MODIFIED:20180316T155127Z
UID:12579-1527292800-1527465599@www.essexcountynature.com
SUMMARY:Sturgeon Creek Restoration Community Event
DESCRIPTION:Save the date – The community-planting event will take place on either Saturday May 26 \n2018 or Sunday May 27 2018 (TBD). The following weekend (June 2 and 3 2018) are also \nmarked for rain dates. See www.essexcountynature.com/events for updates.
URL:https://www.essexcountynature.com/event/sturgeon-creek-restoration-community-event/
CATEGORIES:Restoration Work
END:VEVENT
END:VCALENDAR