BEGIN:VCALENDAR
VERSION:2.0
PRODID:-//Essex County Nature - ECPv6.15.18//NONSGML v1.0//EN
CALSCALE:GREGORIAN
METHOD:PUBLISH
X-WR-CALNAME:Essex County Nature
X-ORIGINAL-URL:https://www.essexcountynature.com
X-WR-CALDESC:Events for Essex County Nature
REFRESH-INTERVAL;VALUE=DURATION:PT1H
X-Robots-Tag:noindex
X-PUBLISHED-TTL:PT1H
BEGIN:VTIMEZONE
TZID:America/Detroit
BEGIN:DAYLIGHT
TZOFFSETFROM:-0500
TZOFFSETTO:-0400
TZNAME:EDT
DTSTART:20240310T070000
END:DAYLIGHT
BEGIN:STANDARD
TZOFFSETFROM:-0400
TZOFFSETTO:-0500
TZNAME:EST
DTSTART:20241103T060000
END:STANDARD
BEGIN:DAYLIGHT
TZOFFSETFROM:-0500
TZOFFSETTO:-0400
TZNAME:EDT
DTSTART:20250309T070000
END:DAYLIGHT
BEGIN:STANDARD
TZOFFSETFROM:-0400
TZOFFSETTO:-0500
TZNAME:EST
DTSTART:20251102T060000
END:STANDARD
BEGIN:DAYLIGHT
TZOFFSETFROM:-0500
TZOFFSETTO:-0400
TZNAME:EDT
DTSTART:20260308T070000
END:DAYLIGHT
BEGIN:STANDARD
TZOFFSETFROM:-0400
TZOFFSETTO:-0500
TZNAME:EST
DTSTART:20261101T060000
END:STANDARD
END:VTIMEZONE
BEGIN:VEVENT
DTSTART;TZID=America/Detroit:20250108T190000
DTEND;TZID=America/Detroit:20250108T210000
DTSTAMP:20260421T194316
CREATED:20241213T003940Z
LAST-MODIFIED:20250102T220318Z
UID:15534-1736362800-1736370000@www.essexcountynature.com
SUMMARY:Greenhouse Integrated Pest Management
DESCRIPTION:Greenhouse Integrated Pest Management  \n– Joanna Dawson 
URL:https://www.essexcountynature.com/event/greenhouse-integrated-pest-management/
CATEGORIES:Essex County Nature Meeting
END:VEVENT
BEGIN:VEVENT
DTSTART;TZID=America/Detroit:20250111T090000
DTEND;TZID=America/Detroit:20250111T150000
DTSTAMP:20260421T194316
CREATED:20250109T034404Z
LAST-MODIFIED:20250109T035311Z
UID:15570-1736586000-1736607600@www.essexcountynature.com
SUMMARY:OFO Field Trip: Winter Birds of the Detroit River
DESCRIPTION:OFO Field Trip\nWinter Birds of the Detroit River: Windsor\nNow open to all ECFNC Members!\nSaturday\, January 11\n9:00 AM – 3:00 PM \nLeaders: Jeremy Hatt\, Kory Renaud \nTrip Description: Meet 9:00 a.m. at Lakeview Park Marina in Windsor. Winter is an excellent time of year to observe waterfowl\, gulls and birds of prey that use the open water of the Detroit River. We will start the day at the marina\, visit the Little River Corridor\, and continue downriver to its end at Ojibway Park. Be sure to dress for the weather and pack some snacks; bring a scope if you have one. \nGreat news!  This event is now open to all club members. \nJoin in for part or all of this walk. Hope to see you there!
URL:https://www.essexcountynature.com/event/ofo-field-trip-winter-birds-of-the-detroit-river/
CATEGORIES:Event,Hike/Trip
END:VEVENT
BEGIN:VEVENT
DTSTART;TZID=America/Detroit:20250119T100000
DTEND;TZID=America/Detroit:20250119T110000
DTSTAMP:20260421T194317
CREATED:20241121T024851Z
LAST-MODIFIED:20250109T031929Z
UID:15434-1737280800-1737284400@www.essexcountynature.com
SUMMARY:Spring Garden Walk
DESCRIPTION:Winter is here! Let’s see what winter in Spring Garden looks like. \n\nJoin us in the Spring Garden Natural Area of the Ojibway Prairie Complex as we monitor changes in the natural world on a monthly basis as the year progresses.  \n\nMeet at the Titcombe Parking Lot off Malden Rd.
URL:https://www.essexcountynature.com/event/spring-garden-walk-3/
END:VEVENT
END:VCALENDAR