BEGIN:VCALENDAR
VERSION:2.0
PRODID:-//Essex County Nature - ECPv6.15.18//NONSGML v1.0//EN
CALSCALE:GREGORIAN
METHOD:PUBLISH
X-WR-CALNAME:Essex County Nature
X-ORIGINAL-URL:https://www.essexcountynature.com
X-WR-CALDESC:Events for Essex County Nature
REFRESH-INTERVAL;VALUE=DURATION:PT1H
X-Robots-Tag:noindex
X-PUBLISHED-TTL:PT1H
BEGIN:VTIMEZONE
TZID:America/Detroit
BEGIN:DAYLIGHT
TZOFFSETFROM:-0500
TZOFFSETTO:-0400
TZNAME:EDT
DTSTART:20240310T070000
END:DAYLIGHT
BEGIN:STANDARD
TZOFFSETFROM:-0400
TZOFFSETTO:-0500
TZNAME:EST
DTSTART:20241103T060000
END:STANDARD
BEGIN:DAYLIGHT
TZOFFSETFROM:-0500
TZOFFSETTO:-0400
TZNAME:EDT
DTSTART:20250309T070000
END:DAYLIGHT
BEGIN:STANDARD
TZOFFSETFROM:-0400
TZOFFSETTO:-0500
TZNAME:EST
DTSTART:20251102T060000
END:STANDARD
BEGIN:DAYLIGHT
TZOFFSETFROM:-0500
TZOFFSETTO:-0400
TZNAME:EDT
DTSTART:20260308T070000
END:DAYLIGHT
BEGIN:STANDARD
TZOFFSETFROM:-0400
TZOFFSETTO:-0500
TZNAME:EST
DTSTART:20261101T060000
END:STANDARD
END:VTIMEZONE
BEGIN:VEVENT
DTSTART;TZID=America/Detroit:20251008T190000
DTEND;TZID=America/Detroit:20251008T200000
DTSTAMP:20260425T235807
CREATED:20251007T233028Z
LAST-MODIFIED:20251007T233028Z
UID:15840-1759950000-1759953600@www.essexcountynature.com
SUMMARY:Backyard Bat Accoustic Monitoring
DESCRIPTION:The results are in! \nWe are very excited to share with you the results of the Backyard Bat Acoustic Monitoring project conducted by the Toronto Zoo. \nThis summer club members volunteered to mount a bat monitoring device that listens for bats on their properties for several nights. A representative from the Toronto Zoo will join us virtually to speak about the project and how our volunteers contributed to a better understanding of bats in Ontario.
URL:https://www.essexcountynature.com/event/backyard-bat-accoustic-monitoring/
CATEGORIES:Essex County Nature Meeting
END:VEVENT
BEGIN:VEVENT
DTSTART;TZID=America/Detroit:20251009T100000
DTEND;TZID=America/Detroit:20251009T110000
DTSTAMP:20260425T235807
CREATED:20251007T233248Z
LAST-MODIFIED:20251007T233248Z
UID:15843-1760004000-1760007600@www.essexcountynature.com
SUMMARY:Nature Conservancy Property Walk
DESCRIPTION:NCC Property Tour\nThursday October 9\, 2025\n10:00AM\nCorner of McCormick Side Rd and 6th Concession\, Essex\nCelebrate the latest conservation efforts of the club with a visit to land purchased on behalf of the Nature Conservancy of Canada. \nWe are thrilled to be able to contribute funds to this fantastic property that will now be preserved for years to come. This is because of all the hard work of the members of the Heritage Committee\, those who help out with our community booths at events and all those who have purchased coffee\, mugs and purchased your ticket to the annual dinner! Our legacy of conservation in this area would not be possible without your support. \nA cheque presentation and tour of the property will begin at 10AM. Currently there is no numbered address.  The tour will start here: 42°04’25.9″N 82°51’08.5″W – Google Maps \nParking will need to be on on McCormick road where you will need to walk to the property entrance. There will be someone at the entrance and at the roadside parking to make it clear where everyone should go. \nLight snacks and water refills will be available. Bring your own water bottles. Regular hiking boots are recommended but as always watch the weather forecast and prepare rain boots in the event of inclement weather.
URL:https://www.essexcountynature.com/event/nature-conservancy-property-walk/
CATEGORIES:Hike/Trip
END:VEVENT
BEGIN:VEVENT
DTSTART;TZID=America/Detroit:20251019T100000
DTEND;TZID=America/Detroit:20251019T120000
DTSTAMP:20260425T235807
CREATED:20250606T001743Z
LAST-MODIFIED:20250606T001743Z
UID:15723-1760868000-1760875200@www.essexcountynature.com
SUMMARY:Monthly Walk
DESCRIPTION:Who doesn’t love options? \nIf you’re planning on joining us this Sunday\, please be aware of the following things:  We’ll be exploring Tallgrass Prairie Heritage Park and/or the Ojibway Prairie Provincial Nature Reserve (y’all get to decide what you’re feeling up to that day) We’ll be meeting at the Titcombe Rd Parking lot off of Matchett Rd. across from the Ojibway Nature Centre (Not Malden… unless you want to start your own mini walk) So maybe you got distracted by the rare wildflowers of Tallgrass Prairie or you find yourself flabergasted at what west & southwestern Ontario looked like thousands of years ago in the Nature Reserve\, or you managed to not yell out “Oooh! This is a (insert name of bird\, plant or insect here)” every step you take and find time to do both… and that’s why: we love options! \nNature is changing\, come see what changes every month at Tallgrass Prairie Heritage Park & Ojibway Prairie Provincial Nature Reserve!
URL:https://www.essexcountynature.com/event/monthly-walk-7/
END:VEVENT
BEGIN:VEVENT
DTSTART;TZID=America/Detroit:20251025T100000
DTEND;TZID=America/Detroit:20251025T120000
DTSTAMP:20260425T235807
CREATED:20251007T233548Z
LAST-MODIFIED:20251007T233548Z
UID:15846-1761386400-1761393600@www.essexcountynature.com
SUMMARY:Fall in Point Pelee
DESCRIPTION:Fall is a great time to get outside and enjoy the cooler weather \nMeet at the tip @ 10AM \nBring a lunch
URL:https://www.essexcountynature.com/event/fall-in-point-pelee/
CATEGORIES:Pop-up
END:VEVENT
END:VCALENDAR